BEGIN:VCALENDAR
VERSION:2.0
PRODID:icalendar-ruby
CALSCALE:GREGORIAN
METHOD:PUBLISH
BEGIN:VEVENT
DTSTAMP:20260424T234927Z
UID:28-1200949@eldoradotrinityumc.com
DTSTART:20261102T130000Z
DTEND:20261102T150000Z
CLASS:PUBLIC
CREATED:20260424T180555
DESCRIPTION:
LAST-MODIFIED:20260424T180555
LOCATION:True Lies
SUMMARY:Men to True Lies for breakfast
URL;VALUE=URI:https://www.eldoradotrinityumc.com/events/men-to-true-lies-fo
 r-breakfast--28/2026-11-02
END:VEVENT
END:VCALENDAR
