BEGIN:VCALENDAR
VERSION:2.0
PRODID:icalendar-ruby
CALSCALE:GREGORIAN
METHOD:PUBLISH
BEGIN:VEVENT
DTSTAMP:20260424T214750Z
UID:28-1200524@eldoradotrinityumc.com
DTSTART:20261026T120000Z
DTEND:20261026T140000Z
CLASS:PUBLIC
CREATED:20260424T151812
DESCRIPTION:
LAST-MODIFIED:20260424T151812
LOCATION:True Lies
SUMMARY:Men to True Lies for breakfast
URL;VALUE=URI:https://www.eldoradotrinityumc.com/events/men-to-true-lies-fo
 r-breakfast--28/2026-10-26
END:VEVENT
END:VCALENDAR
