BEGIN:VCALENDAR
VERSION:2.0
PRODID:icalendar-ruby
CALSCALE:GREGORIAN
METHOD:PUBLISH
BEGIN:VEVENT
DTSTAMP:20260424T180848Z
UID:28-1200098@eldoradotrinityumc.com
DTSTART:20261012T120000Z
DTEND:20261012T140000Z
CLASS:PUBLIC
CREATED:20260424T123109
DESCRIPTION:
LAST-MODIFIED:20260424T123109
LOCATION:True Lies
SUMMARY:Men to True Lies for breakfast
URL;VALUE=URI:https://www.eldoradotrinityumc.com/events/men-to-true-lies-fo
 r-breakfast--28/2026-10-12
END:VEVENT
END:VCALENDAR
