BEGIN:VCALENDAR
VERSION:2.0
PRODID:icalendar-ruby
CALSCALE:GREGORIAN
METHOD:PUBLISH
BEGIN:VEVENT
DTSTAMP:20260424T161123Z
UID:28-1199673@eldoradotrinityumc.com
DTSTART:20261005T120000Z
DTEND:20261005T140000Z
CLASS:PUBLIC
CREATED:20260424T094334
DESCRIPTION:
LAST-MODIFIED:20260424T094334
LOCATION:True Lies
SUMMARY:Men to True Lies for breakfast
URL;VALUE=URI:https://www.eldoradotrinityumc.com/events/men-to-true-lies-fo
 r-breakfast--28/2026-10-05
END:VEVENT
END:VCALENDAR
