BEGIN:VCALENDAR
VERSION:2.0
PRODID:icalendar-ruby
CALSCALE:GREGORIAN
METHOD:PUBLISH
BEGIN:VEVENT
DTSTAMP:20260424T122304Z
UID:28-1199247@eldoradotrinityumc.com
DTSTART:20260921T120000Z
DTEND:20260921T140000Z
CLASS:PUBLIC
CREATED:20260424T065004
DESCRIPTION:
LAST-MODIFIED:20260424T065004
LOCATION:True Lies
SUMMARY:Men to True Lies for breakfast
URL;VALUE=URI:https://www.eldoradotrinityumc.com/events/men-to-true-lies-fo
 r-breakfast--28/2026-09-21
END:VEVENT
END:VCALENDAR
