BEGIN:VCALENDAR
VERSION:2.0
PRODID:icalendar-ruby
CALSCALE:GREGORIAN
METHOD:PUBLISH
BEGIN:VEVENT
DTSTAMP:20260424T115843Z
UID:46-1199367@eldoradotrinityumc.com
DTSTART:20260920T150000Z
DTEND:20260920T154500Z
CLASS:PUBLIC
CREATED:20260424T065004
DESCRIPTION:Join us in fellowship for Coffee\, Cookies and Conversation in 
 Fellowship Hall before worship service. Meet and Greet\, Come and Go
LAST-MODIFIED:20260424T065004
LOCATION:TUMC Fellowship Hall
SUMMARY:Coffee Among Friends
URL;VALUE=URI:https://www.eldoradotrinityumc.com/events/coffee-among-friend
 s/2026-09-20
ATTACH;FILENAME=n472924.jpg;FMTTYPE=image/jpeg:https://dq5pwpg1q8ru0.cloudf
 ront.net/2024/07/15/14/01/29/1d1a4776-8b03-4a4a-b5d2-d2f953ddc7b0/n472924.
 jpg
END:VEVENT
END:VCALENDAR
